BEGIN:VCALENDAR
VERSION:2.0
PRODID:-//Fashion Formula Academy - ECPv6.15.20//NONSGML v1.0//EN
CALSCALE:GREGORIAN
METHOD:PUBLISH
X-WR-CALNAME:Fashion Formula Academy
X-ORIGINAL-URL:https://fashionformula101.com
X-WR-CALDESC:Events for Fashion Formula Academy
REFRESH-INTERVAL;VALUE=DURATION:PT1H
X-Robots-Tag:noindex
X-PUBLISHED-TTL:PT1H
BEGIN:VTIMEZONE
TZID:America/New_York
BEGIN:DAYLIGHT
TZOFFSETFROM:-0500
TZOFFSETTO:-0400
TZNAME:EDT
DTSTART:20210314T070000
END:DAYLIGHT
BEGIN:STANDARD
TZOFFSETFROM:-0400
TZOFFSETTO:-0500
TZNAME:EST
DTSTART:20211107T060000
END:STANDARD
BEGIN:DAYLIGHT
TZOFFSETFROM:-0500
TZOFFSETTO:-0400
TZNAME:EDT
DTSTART:20220313T070000
END:DAYLIGHT
BEGIN:STANDARD
TZOFFSETFROM:-0400
TZOFFSETTO:-0500
TZNAME:EST
DTSTART:20221106T060000
END:STANDARD
BEGIN:DAYLIGHT
TZOFFSETFROM:-0500
TZOFFSETTO:-0400
TZNAME:EDT
DTSTART:20230312T070000
END:DAYLIGHT
BEGIN:STANDARD
TZOFFSETFROM:-0400
TZOFFSETTO:-0500
TZNAME:EST
DTSTART:20231105T060000
END:STANDARD
END:VTIMEZONE
BEGIN:VEVENT
DTSTART;VALUE=DATE:20220607
DTEND;VALUE=DATE:20220608
DTSTAMP:20260421T192611
CREATED:20220203T220159Z
LAST-MODIFIED:20220203T220159Z
UID:2094-1654560000-1654646399@fashionformula101.com
SUMMARY:Advance Email Conference
DESCRIPTION:Speakers all share secrets of their success. At this email marketing conference\, you will learn how powerful customer-focused email campaigns can be\, how to utilize email personalization right\, and how to automate email marketing. Put simply\, they will show you how to use email marketing right so that it increases your ROI. \nLondon\, UK \nLearn more and register here.
URL:https://fashionformula101.com/event/advance-email-conference/
CATEGORIES:Conferences
END:VEVENT
BEGIN:VEVENT
DTSTART;VALUE=DATE:20220516
DTEND;VALUE=DATE:20220519
DTSTAMP:20260421T192611
CREATED:20220203T220400Z
LAST-MODIFIED:20220203T220419Z
UID:2096-1652659200-1652918399@fashionformula101.com
SUMMARY:ANA Email Evolution
DESCRIPTION:Tap into rich insights\, best practices\, case studies\, and the latest trends from leaders in marketing and advertising. \nConnect with peers from businesses large and small to expand your personal network and sphere of influence. \nAdvance your marketing knowledge and that of your team to drive sustained growth for your brand and business. \nScottsdale\, AZ and virtual \nLearn more and register here.
URL:https://fashionformula101.com/event/2096/
CATEGORIES:Conferences
END:VEVENT
BEGIN:VEVENT
DTSTART;VALUE=DATE:20220406
DTEND;VALUE=DATE:20220408
DTSTAMP:20260421T192611
CREATED:20220203T220952Z
LAST-MODIFIED:20220203T220952Z
UID:2102-1649203200-1649375999@fashionformula101.com
SUMMARY:B2B Forum
DESCRIPTION:You will learn new ways to run social media\, ways to build first-party data strategies for content marketing\, experts will share their thoughts on B2B influencer marketing\, positioning\, and so much more. \nLearn more and register here.
URL:https://fashionformula101.com/event/b2b-forum/
CATEGORIES:Conferences
END:VEVENT
BEGIN:VEVENT
DTSTART;VALUE=DATE:20220323
DTEND;VALUE=DATE:20220326
DTSTAMP:20260421T192611
CREATED:20220203T220854Z
LAST-MODIFIED:20220203T220854Z
UID:2100-1647993600-1648252799@fashionformula101.com
SUMMARY:Marketing 2.0
DESCRIPTION:At the Marketing 2.0 Conference\, visionary leaders will take the stage to brainstorm on crucial topics\, shed light on recent developments\, and solutions to present-day marketing challenges that can power exceptional business growth. We will bring together some of the most brilliant innovators\, digital marketers\, data scientists\, and technologists who will speak on the effective deployment of MarTech\, content strategy\, ways to drive customer engagement\, impactful traditional advertising\, marketing optimization\, and much more. After this\, let off steam by participating in our networking sessions. \nDubai \nLearn more and register here.
URL:https://fashionformula101.com/event/marketing-2-0/
CATEGORIES:Conferences
END:VEVENT
END:VCALENDAR