BEGIN:VCALENDAR
VERSION:2.0
PRODID:-//Fashion Formula Academy - ECPv6.15.20//NONSGML v1.0//EN
CALSCALE:GREGORIAN
METHOD:PUBLISH
X-WR-CALNAME:Fashion Formula Academy
X-ORIGINAL-URL:https://fashionformula101.com
X-WR-CALDESC:Events for Fashion Formula Academy
REFRESH-INTERVAL;VALUE=DURATION:PT1H
X-Robots-Tag:noindex
X-PUBLISHED-TTL:PT1H
BEGIN:VTIMEZONE
TZID:America/New_York
BEGIN:DAYLIGHT
TZOFFSETFROM:-0500
TZOFFSETTO:-0400
TZNAME:EDT
DTSTART:20210314T070000
END:DAYLIGHT
BEGIN:STANDARD
TZOFFSETFROM:-0400
TZOFFSETTO:-0500
TZNAME:EST
DTSTART:20211107T060000
END:STANDARD
BEGIN:DAYLIGHT
TZOFFSETFROM:-0500
TZOFFSETTO:-0400
TZNAME:EDT
DTSTART:20220313T070000
END:DAYLIGHT
BEGIN:STANDARD
TZOFFSETFROM:-0400
TZOFFSETTO:-0500
TZNAME:EST
DTSTART:20221106T060000
END:STANDARD
BEGIN:DAYLIGHT
TZOFFSETFROM:-0500
TZOFFSETTO:-0400
TZNAME:EDT
DTSTART:20230312T070000
END:DAYLIGHT
BEGIN:STANDARD
TZOFFSETFROM:-0400
TZOFFSETTO:-0500
TZNAME:EST
DTSTART:20231105T060000
END:STANDARD
END:VTIMEZONE
BEGIN:VEVENT
DTSTART;VALUE=DATE:20220807
DTEND;VALUE=DATE:20220811
DTSTAMP:20260421T092005
CREATED:20220127T212705Z
LAST-MODIFIED:20220127T212705Z
UID:2048-1659830400-1660175999@fashionformula101.com
SUMMARY:Sourcing at Magic Las Vegas
DESCRIPTION:Domestic and international gathering of manufacturers\, suppliers and service providers from apparel and footwear manufacturing\, to textiles\, materials\, components\, supply chain\, and technology solutions – both in-person and online.
URL:https://fashionformula101.com/event/sourcing-at-magic-las-vegas-2/
CATEGORIES:Factory Sourcing
END:VEVENT
BEGIN:VEVENT
DTSTART;VALUE=DATE:20220213
DTEND;VALUE=DATE:20220217
DTSTAMP:20260421T092005
CREATED:20220127T212603Z
LAST-MODIFIED:20220127T212603Z
UID:2046-1644710400-1645055999@fashionformula101.com
SUMMARY:Sourcing at Magic Las Vegas
DESCRIPTION:Domestic and international gathering of manufacturers\, suppliers and service providers from apparel and footwear manufacturing\, to textiles\, materials\, components\, supply chain\, and technology solutions – both in-person and online. \nClick Here to Register
URL:https://fashionformula101.com/event/sourcing-at-magic-las-vegas/
CATEGORIES:Factory Sourcing
END:VEVENT
BEGIN:VEVENT
DTSTART;VALUE=DATE:20220201
DTEND;VALUE=DATE:20220402
DTSTAMP:20260421T092005
CREATED:20220127T212442Z
LAST-MODIFIED:20220127T212442Z
UID:2044-1643673600-1648857599@fashionformula101.com
SUMMARY:Sourcing at Magic Online
DESCRIPTION:Domestic and international gathering of manufacturers\, suppliers and service providers from apparel and footwear manufacturing\, to textiles\, materials\, components\, supply chain\, and technology solutions – both in-person and online. \nClick here to Register
URL:https://fashionformula101.com/event/sourcing-at-magic-online/
CATEGORIES:Factory Sourcing
END:VEVENT
END:VCALENDAR