BEGIN:VCALENDAR
VERSION:2.0
PRODID:-//Fashion Formula Academy - ECPv6.15.20//NONSGML v1.0//EN
CALSCALE:GREGORIAN
METHOD:PUBLISH
X-ORIGINAL-URL:https://fashionformula101.com
X-WR-CALDESC:Events for Fashion Formula Academy
REFRESH-INTERVAL;VALUE=DURATION:PT1H
X-Robots-Tag:noindex
X-PUBLISHED-TTL:PT1H
BEGIN:VTIMEZONE
TZID:America/New_York
BEGIN:DAYLIGHT
TZOFFSETFROM:-0500
TZOFFSETTO:-0400
TZNAME:EDT
DTSTART:20210314T070000
END:DAYLIGHT
BEGIN:STANDARD
TZOFFSETFROM:-0400
TZOFFSETTO:-0500
TZNAME:EST
DTSTART:20211107T060000
END:STANDARD
BEGIN:DAYLIGHT
TZOFFSETFROM:-0500
TZOFFSETTO:-0400
TZNAME:EDT
DTSTART:20220313T070000
END:DAYLIGHT
BEGIN:STANDARD
TZOFFSETFROM:-0400
TZOFFSETTO:-0500
TZNAME:EST
DTSTART:20221106T060000
END:STANDARD
BEGIN:DAYLIGHT
TZOFFSETFROM:-0500
TZOFFSETTO:-0400
TZNAME:EDT
DTSTART:20230312T070000
END:DAYLIGHT
BEGIN:STANDARD
TZOFFSETFROM:-0400
TZOFFSETTO:-0500
TZNAME:EST
DTSTART:20231105T060000
END:STANDARD
END:VTIMEZONE
BEGIN:VEVENT
DTSTART;VALUE=DATE:20221011
DTEND;VALUE=DATE:20221016
DTSTAMP:20260420T051444
CREATED:20220131T161600Z
LAST-MODIFIED:20220131T161856Z
UID:2060-1665446400-1665878399@fashionformula101.com
SUMMARY:Atlanta Apparel Market
DESCRIPTION:Atlanta Apparel’s five annual general apparel markets feature the latest looks in contemporary\, young contemporary\, ready-to-wear\, fashion accessories and more\, plus specialty categories such as children’s and plus-size\, and a growing selection of men’s lines. \nSeasons to Shop:\nSpring and Resort\, Holiday/Winter Immediates for women’s Apparel\, Spring/Summer for Children’s \nClick here to register.
URL:https://fashionformula101.com/event/atlanta-apparel-market-4/
CATEGORIES:Wholesale Trade
END:VEVENT
BEGIN:VEVENT
DTSTART;VALUE=DATE:20220919
DTEND;VALUE=DATE:20220922
DTSTAMP:20260420T051444
CREATED:20220203T215928Z
LAST-MODIFIED:20220203T215928Z
UID:2090-1663545600-1663804799@fashionformula101.com
SUMMARY:Fall Market at AmericasMart
DESCRIPTION:Fall Market returns this Fall and you won’t want to miss it. This must-attend event gives you access to the leading trends and showrooms\, including home and gift categories and everything in between. Plus\, we are bringing back in-person educational seminars\, networking opportunities and more to help you build your business. \nLearn more and register here.
URL:https://fashionformula101.com/event/fall-market-at-americasmart/
CATEGORIES:Wholesale Trade
END:VEVENT
BEGIN:VEVENT
DTSTART;VALUE=DATE:20220918
DTEND;VALUE=DATE:20220921
DTSTAMP:20260420T051444
CREATED:20220127T212309Z
LAST-MODIFIED:20220127T212309Z
UID:2042-1663459200-1663718399@fashionformula101.com
SUMMARY:Coterie New York
DESCRIPTION:Trade show for women’s elevated contemporary and advanced contemporary apparel\, accessories\, and footwear spanning premium to affordable luxury price points.
URL:https://fashionformula101.com/event/coterie-new-york-2/
CATEGORIES:Wholesale Trade
END:VEVENT
BEGIN:VEVENT
DTSTART;VALUE=DATE:20220918
DTEND;VALUE=DATE:20220921
DTSTAMP:20260420T051444
CREATED:20220127T211320Z
LAST-MODIFIED:20220127T211915Z
UID:2022-1663459200-1663718399@fashionformula101.com
SUMMARY:Magic New York
DESCRIPTION:Trade show for women’s and men’s trend-driven and young contemporary apparel\, footwear\, and accessories at accessible price points.
URL:https://fashionformula101.com/event/magic-new-york-2/
CATEGORIES:Wholesale Trade
END:VEVENT
BEGIN:VEVENT
DTSTART;VALUE=DATE:20220814
DTEND;VALUE=DATE:20220817
DTSTAMP:20260420T051444
CREATED:20220131T162449Z
LAST-MODIFIED:20220131T162558Z
UID:2073-1660435200-1660694399@fashionformula101.com
SUMMARY:VOW Bridal & Formal Las Vegas
DESCRIPTION:Experience VOW Bridal & Formal for all your needs including bridal\, mother of the bride\, wedding party\, special occasion\, quinceañera\, men’s formalwear\, accessories and more! In addition to showcasing all of the top lines and essential trends you need to be successful\, VOW Bridal & Formal offers insightful educational seminars\, inspiring fashion shows and exciting events to keep you energized throughout Market. \nCategories to Shop:\nBridal\, Prom\, Quinceañera\, Mother-of-the-Bride\, Accessories\, Homecoming\, Men’s Formalwear\, Special Occasion \nClick here to Register.
URL:https://fashionformula101.com/event/vow-bridal-formal-las-vegas/
CATEGORIES:Wholesale Trade
END:VEVENT
BEGIN:VEVENT
DTSTART;VALUE=DATE:20220808
DTEND;VALUE=DATE:20220811
DTSTAMP:20260420T051444
CREATED:20220127T211738Z
LAST-MODIFIED:20220127T212023Z
UID:2029-1659916800-1660175999@fashionformula101.com
SUMMARY:Project Las Vegas
DESCRIPTION:Trade show for contemporary men’s and women’s apparel\, footwear\, and accessories featuring mid-market to premium price points.
URL:https://fashionformula101.com/event/project-las-vegas-2/
CATEGORIES:Wholesale Trade
END:VEVENT
BEGIN:VEVENT
DTSTART;VALUE=DATE:20220808
DTEND;VALUE=DATE:20220811
DTSTAMP:20260420T051444
CREATED:20220127T211215Z
LAST-MODIFIED:20220127T211912Z
UID:2020-1659916800-1660175999@fashionformula101.com
SUMMARY:Magic Las Vegas
DESCRIPTION:Trade show for women’s and men’s trend-driven and young contemporary apparel\, footwear\, and accessories at accessible price points.
URL:https://fashionformula101.com/event/magic-las-vegas-2/
CATEGORIES:Wholesale Trade
END:VEVENT
BEGIN:VEVENT
DTSTART;VALUE=DATE:20220802
DTEND;VALUE=DATE:20220807
DTSTAMP:20260420T051444
CREATED:20220131T161513Z
LAST-MODIFIED:20220131T161815Z
UID:2058-1659398400-1659830399@fashionformula101.com
SUMMARY:Atlanta Apparel Market
DESCRIPTION:Atlanta Apparel’s five annual general apparel markets feature the latest looks in contemporary\, young contemporary\, ready-to-wear\, fashion accessories and more\, plus specialty categories such as children’s and plus-size\, and a growing selection of men’s lines. \nSeasons to Shop:\nHoliday\, Resort\, Winter\, and Immediates for women’s apparel\, Spring/Summer for Children’s \nClick here to register.
URL:https://fashionformula101.com/event/atlanta-apparel-market-3/
CATEGORIES:Wholesale Trade
END:VEVENT
BEGIN:VEVENT
DTSTART;VALUE=DATE:20220801
DTEND;VALUE=DATE:20220807
DTSTAMP:20260420T051444
CREATED:20220131T162411Z
LAST-MODIFIED:20220131T162547Z
UID:2071-1659312000-1659830399@fashionformula101.com
SUMMARY:VOW Bridal & Formal Atlanta
DESCRIPTION:Experience VOW Bridal & Formal for all your needs including bridal\, mother of the bride\, wedding party\, special occasion\, quinceañera\, men’s formalwear\, accessories and more! In addition to showcasing all of the top lines and essential trends you need to be successful\, VOW Bridal & Formal offers insightful educational seminars\, inspiring fashion shows and exciting events to keep you energized throughout Market. \nCategories to Shop:\nBridal\, Prom\, Quinceañera\, Mother-of-the-Bride\, Accessories\, Homecoming\, Men’s Formalwear\, Special Occasion \nClick here to Register.
URL:https://fashionformula101.com/event/vow-bridal-formal-atlanta/
CATEGORIES:Wholesale Trade
END:VEVENT
BEGIN:VEVENT
DTSTART;VALUE=DATE:20220712
DTEND;VALUE=DATE:20220719
DTSTAMP:20260420T051444
CREATED:20220203T215657Z
LAST-MODIFIED:20220203T215657Z
UID:2086-1657584000-1658188799@fashionformula101.com
SUMMARY:Atlanta Market at AmericasMart
DESCRIPTION:The Premier Gift\, Décor and Lifestyle Market. Housing the nation’s largest gift product mix complemented by a broad selection of home décor. Atlanta Market features more than 8\,000 brands across all categories including seasonal\, gourmet\, tabletop\, outdoor and more. \nLearn more here.
URL:https://fashionformula101.com/event/atlanta-market-at-americasmart/
CATEGORIES:Wholesale Trade
END:VEVENT
BEGIN:VEVENT
DTSTART;VALUE=DATE:20220608
DTEND;VALUE=DATE:20220612
DTSTAMP:20260420T051444
CREATED:20220131T161433Z
LAST-MODIFIED:20220131T161744Z
UID:2056-1654646400-1654991999@fashionformula101.com
SUMMARY:Atlanta Apparel Market
DESCRIPTION:Atlanta Apparel’s five annual general apparel markets feature the latest looks in contemporary\, young contemporary\, ready-to-wear\, fashion accessories and more\, plus specialty categories such as children’s and plus-size\, and a growing selection of men’s lines. \nSeasons to Shop:\nFall 2\, Immediates\, Holiday\, and Gameday \nClick here to register.
URL:https://fashionformula101.com/event/atlanta-apparel-market-2/
CATEGORIES:Wholesale Trade
END:VEVENT
BEGIN:VEVENT
DTSTART;VALUE=DATE:20220516
DTEND;VALUE=DATE:20220518
DTSTAMP:20260420T051444
CREATED:20220127T211014Z
LAST-MODIFIED:20220127T211907Z
UID:2018-1652659200-1652831999@fashionformula101.com
SUMMARY:Magic Nashville
DESCRIPTION:Trade show for women’s and men’s trend-driven and young contemporary apparel\, footwear\, and accessories at accessible price points. \nClick Here to Register
URL:https://fashionformula101.com/event/magic-nashville/
CATEGORIES:Wholesale Trade
END:VEVENT
BEGIN:VEVENT
DTSTART;VALUE=DATE:20220503
DTEND;VALUE=DATE:20220506
DTSTAMP:20260420T051444
CREATED:20220203T215813Z
LAST-MODIFIED:20220203T215813Z
UID:2088-1651536000-1651795199@fashionformula101.com
SUMMARY:Cash & Carry at AmericasMart
DESCRIPTION:From jewelry to furniture and everything in between\, restock your inventory instantly. Explore special savings and floor samples\, including high-end goods plus gift items in the temporaries with no minimum orders\, while getting to know what’s in demand from leading gift and home furnishings brands. \nLearn more and register here.
URL:https://fashionformula101.com/event/cash-carry-at-americasmart/
CATEGORIES:Wholesale Trade
END:VEVENT
BEGIN:VEVENT
DTSTART;VALUE=DATE:20220412
DTEND;VALUE=DATE:20220415
DTSTAMP:20260420T051444
CREATED:20220131T162307Z
LAST-MODIFIED:20220131T162542Z
UID:2068-1649721600-1649980799@fashionformula101.com
SUMMARY:VOW Bridal & Formal Atlanta
DESCRIPTION:Experience VOW Bridal & Formal for all your needs including bridal\, mother of the bride\, wedding party\, special occasion\, quinceañera\, men’s formalwear\, accessories and more! In addition to showcasing all of the top lines and essential trends you need to be successful\, VOW Bridal & Formal offers insightful educational seminars\, inspiring fashion shows and exciting events to keep you energized throughout Market. \nCategories to Shop:\nBridal\, Prom\, Quinceañera\, Mother-of-the-Bride\, Accessories\, Homecoming\, Men’s Formalwear\, Special Occasion \nClick here to Register.
URL:https://fashionformula101.com/event/vow-bridal-formal/
CATEGORIES:Wholesale Trade
END:VEVENT
BEGIN:VEVENT
DTSTART;VALUE=DATE:20220411
DTEND;VALUE=DATE:20220416
DTSTAMP:20260420T051444
CREATED:20220131T161350Z
LAST-MODIFIED:20220131T161719Z
UID:2054-1649635200-1650067199@fashionformula101.com
SUMMARY:Atlanta Apparel Market
DESCRIPTION:Atlanta Apparel’s five annual general apparel markets feature the latest looks in contemporary\, young contemporary\, ready-to-wear\, fashion accessories and more\, plus specialty categories such as children’s and plus-size\, and a growing selection of men’s lines. \nSeasons to Shop:\nAutumn/Winter\, Summer Immediates\, Shoes \nClick here to register.
URL:https://fashionformula101.com/event/atlanta-apparel-market/
CATEGORIES:Wholesale Trade
END:VEVENT
BEGIN:VEVENT
DTSTART;VALUE=DATE:20220316
DTEND;VALUE=DATE:20220318
DTSTAMP:20260420T051444
CREATED:20220127T211615Z
LAST-MODIFIED:20220127T212020Z
UID:2027-1647388800-1647561599@fashionformula101.com
SUMMARY:Project Tokyo
DESCRIPTION:Trade show for contemporary men’s and women’s apparel\, footwear\, and accessories featuring mid-market to premium price points. \nClick here to learn more.
URL:https://fashionformula101.com/event/project-tokyo/
CATEGORIES:Wholesale Trade
END:VEVENT
BEGIN:VEVENT
DTSTART;VALUE=DATE:20220302
DTEND;VALUE=DATE:20220305
DTSTAMP:20260420T051444
CREATED:20220203T220016Z
LAST-MODIFIED:20220203T220016Z
UID:2092-1646179200-1646438399@fashionformula101.com
SUMMARY:Spring Market at AmericasMart
DESCRIPTION:Spring Market is a mid-season event\, featuring hundreds of permanent showrooms in Buildings 1\, 2 and 3. This show is perfect for finalizing Q1 purchasing\, more one-on-one time with reps and showroom staff\, and locking in your seasonal buying for 2022. Shop from top lines in holiday\, floral\, gift\, home\, garden\, seasonal\, gourmet\, entertaining\, tabletop\, home decor\, children’s and toys. \nLearn more or register here.
URL:https://fashionformula101.com/event/spring-market-at-americasmart/
CATEGORIES:Wholesale Trade
END:VEVENT
BEGIN:VEVENT
DTSTART;VALUE=DATE:20220227
DTEND;VALUE=DATE:20220302
DTSTAMP:20260420T051444
CREATED:20220127T212235Z
LAST-MODIFIED:20220127T212235Z
UID:2040-1645920000-1646179199@fashionformula101.com
SUMMARY:Coterie New York
DESCRIPTION:Trade show for women’s elevated contemporary and advanced contemporary apparel\, accessories\, and footwear spanning premium to affordable luxury price points. \nClick here to Register
URL:https://fashionformula101.com/event/coterie-new-york/
CATEGORIES:Wholesale Trade
END:VEVENT
BEGIN:VEVENT
DTSTART;VALUE=DATE:20220227
DTEND;VALUE=DATE:20220302
DTSTAMP:20260420T051444
CREATED:20220127T210831Z
LAST-MODIFIED:20220127T211901Z
UID:2016-1645920000-1646179199@fashionformula101.com
SUMMARY:Magic New York
DESCRIPTION:Trade show for women’s and men’s trend-driven and young contemporary apparel\, footwear\, and accessories at accessible price points. \nClick Here to Register
URL:https://fashionformula101.com/event/magic-new-york/
CATEGORIES:Wholesale Trade
END:VEVENT
BEGIN:VEVENT
DTSTART;VALUE=DATE:20220219
DTEND;VALUE=DATE:20220222
DTSTAMP:20260420T051444
CREATED:20220209T155230Z
LAST-MODIFIED:20220209T155230Z
UID:2109-1645228800-1645487999@fashionformula101.com
SUMMARY:Atlanta Shoe Market
DESCRIPTION:Learn more and register here.
URL:https://fashionformula101.com/event/atlanta-shoe-market/
CATEGORIES:Wholesale Trade
END:VEVENT
BEGIN:VEVENT
DTSTART;VALUE=DATE:20220214
DTEND;VALUE=DATE:20220217
DTSTAMP:20260420T051444
CREATED:20220127T211432Z
LAST-MODIFIED:20220127T212014Z
UID:2024-1644796800-1645055999@fashionformula101.com
SUMMARY:Project Las Vegas
DESCRIPTION:Trade show for contemporary men’s and women’s apparel\, footwear\, and accessories featuring mid-market to premium price points. \nClick here to Register
URL:https://fashionformula101.com/event/project-las-vegas/
CATEGORIES:Wholesale Trade
END:VEVENT
BEGIN:VEVENT
DTSTART;VALUE=DATE:20220214
DTEND;VALUE=DATE:20220217
DTSTAMP:20260420T051444
CREATED:20220127T205819Z
LAST-MODIFIED:20220127T211845Z
UID:2009-1644796800-1645055999@fashionformula101.com
SUMMARY:Magic Las Vegas
DESCRIPTION:Trade show for women’s and men’s trend-driven and young contemporary apparel\, footwear\, and accessories at accessible price points. \nClick here to register
URL:https://fashionformula101.com/event/magic-las-vegas/
CATEGORIES:Wholesale Trade
END:VEVENT
BEGIN:VEVENT
DTSTART;VALUE=DATE:20220213
DTEND;VALUE=DATE:20220217
DTSTAMP:20260420T051444
CREATED:20220127T213129Z
LAST-MODIFIED:20220128T144022Z
UID:2050-1644710400-1645055999@fashionformula101.com
SUMMARY:Off Price Las Vegas
DESCRIPTION:Tradeshow for in-season closeouts\, overproduced and budget goods \nClick Here to Register
URL:https://fashionformula101.com/event/off-price-las-vegas/
CATEGORIES:Wholesale Trade
END:VEVENT
BEGIN:VEVENT
DTSTART;VALUE=DATE:20220212
DTEND;VALUE=DATE:20220216
DTSTAMP:20260420T051444
CREATED:20220131T162949Z
LAST-MODIFIED:20220203T191000Z
UID:2081-1644624000-1644969599@fashionformula101.com
SUMMARY:Las Vegas Apparel
DESCRIPTION:Trade show for young contemporary\, accessory\, and shoe brands. \nClick here to learn more.
URL:https://fashionformula101.com/event/las-vegas-apparel/
CATEGORIES:Wholesale Trade
END:VEVENT
BEGIN:VEVENT
DTSTART;VALUE=DATE:20220201
DTEND;VALUE=DATE:20220206
DTSTAMP:20260420T051444
CREATED:20220131T161236Z
LAST-MODIFIED:20220131T161654Z
UID:2052-1643673600-1644105599@fashionformula101.com
SUMMARY:Atlanta Apparel
DESCRIPTION:Atlanta Apparel’s five annual general apparel markets feature the latest looks in contemporary\, young contemporary\, ready-to-wear\, fashion accessories and more\, plus specialty categories such as children’s and plus-size\, and a growing selection of men’s lines. \nSeasons to Shop:\nSpring/Summer\, Immediates for women’s apparel\, Autumn/Winter for children’s apparel \nClick here to register.
URL:https://fashionformula101.com/event/atlanta-apparel/
CATEGORIES:Wholesale Trade
END:VEVENT
END:VCALENDAR